BEGIN:VCALENDAR
VERSION:2.0
PRODID:-//hacksw/handcal//NONSGML v1.0//EN
BEGIN:VEVENT
DTSTART:20241127T183000
DTEND:20241127T230000
LOCATION:Salle des arts - Monte Carlo one \n1, Place du Casino \n98000 MONACO
ORGANIZER;CN=THIERRY GIBERT - EUR ELMI / ISEM:MAILTO:link@univ-cotedazur.fr
SUMMARY:La fin de l’empire américain : Bienvenus dans le Nouveau Désordre Mondial
DESCRIPTION:Conférence avec Monsieur Alan Friedman, Journaliste expert en économie, écrivain américain. Conférence en anglais avec traduction simultanée en français.Participation gratuite, mais inscription...
URL:https://link.univ-cotedazur.fr/en/group/eur-elmi-isem/84/calendar/la-fin-de-l-empire-americain-bienvenus-dans-le-nouveau-desordre-mondial/2024/11/27/1164
BEGIN:VALARM
TRIGGER:-P0DT1H0M0S
ACTION:DISPLAY
END:VALARM
END:VEVENT
END:VCALENDAR