BEGIN:VCALENDAR
VERSION:2.0
PRODID:-//hacksw/handcal//NONSGML v1.0//EN
BEGIN:VEVENT
DTSTART:20250216T120000
DTEND:20250216T130000
LOCATION:Vallée de la Vésubie
ORGANIZER;CN=SYLVAIN RUBENTHALER - UCA Mountaineering club (Alpinisme / Escalade / Ski de rando):MAILTO:sylvain.rubenthaler@univ-cotedazur.fr
SUMMARY:Sortie initiation ski de randonnée
DESCRIPTION: Je propose une sortie ski de rando pour débutants le dimanche 16 février ou le dimanche 23 février (le  ski de rando, qu'est-ce que c'est ?). JMatériel  à louer en magasin de montagne (voir dans les ...
URL:https://link.univ-cotedazur.fr/en/group/uca-mountaineering-club-alpinisme-escalade-ski-de-rando/62/calendar/sortie-initiation-ski-de-randonnee/2025/02/16/1207
BEGIN:VALARM
TRIGGER:-P0DT1H0M0S
ACTION:DISPLAY
END:VALARM
END:VEVENT
END:VCALENDAR