BEGIN:VCALENDAR
VERSION:2.0
PRODID:-//hacksw/handcal//NONSGML v1.0//EN
BEGIN:VEVENT
DTSTART:20260206T090000
DTEND:20260206T180000
LOCATION:Grimaldi Forum \n10, Avenue Princesse Grâce \n98000 MONACO
ORGANIZER;CN=SERGE DULHAUSTE:MAILTO:serge.dulhauste@univ-cotedazur.fr
SUMMARY:Forum du Recrutement Monaco pour l' Emploi - Vendredi 6 Février 2026 -
DESCRIPTION:Le vendredi 6 février 2026 de 9h à 18h, le forum Monaco Pour l'Emploi fait son retour au Grimaldi Forum de Monaco. Tous les secteurs d'activité y seront représentés. Cette année, l'Institut Monégasque...
URL:https://link.univ-cotedazur.fr/en/event/forum-du-recrutement-monaco-pour-l-emploi-vendredi-6-fevrier-2026/2026/02/06/1373
BEGIN:VALARM
TRIGGER:-P0DT1H0M0S
ACTION:DISPLAY
END:VALARM
END:VEVENT
END:VCALENDAR