BEGIN:VCALENDAR
VERSION:2.0
PRODID:-//hacksw/handcal//NONSGML v1.0//EN
BEGIN:VEVENT
DTSTART:20260401T140000
DTEND:20260401T170000
LOCATION:Casino Terrazur \nShopping Promenade Riviera -421, Avenue de la Santoline \n06800 CAGNES-SUR-MER
ORGANIZER;CN=SERGE DULHAUSTE:MAILTO:serge.dulhauste@univ-cotedazur.fr
SUMMARY:Forum des Jobs d' été - Ville de Cagnes-sur-mer - Casino Terrazur - Mercredi 1er Avril 2026 -
DESCRIPTION:Rendez-vous au Casino Terrazur – Polygone Riviera !Pour cette 24e édition, le Service Jeunesse de Cagnes-sur-Mer, la Mission locale et France Travail donnent rendez-vous au public au Casino Terrazur –...
URL:https://link.univ-cotedazur.fr/en/event/forum-des-jobs-d-ete-ville-de-cagnes-sur-mer-casino-terrazur-mercredi-1er-avril-2026/2026/04/01/1411
BEGIN:VALARM
TRIGGER:-P0DT1H0M0S
ACTION:DISPLAY
END:VALARM
END:VEVENT
END:VCALENDAR