BEGIN:VCALENDAR
VERSION:2.0
PRODID:-//hacksw/handcal//NONSGML v1.0//EN
BEGIN:VEVENT
DTSTART:20240922T080000
DTEND:20240922T170000
LOCATION:Cime de la Leche
ORGANIZER;CN=SYLVAIN RUBENTHALER - UCA Mountaineering club (Alpinisme / Escalade / Ski de rando):MAILTO:sylvain.rubenthaler@univ-cotedazur.fr
SUMMARY:Rando - grillades
DESCRIPTION:Envie de combiner nature, sport et plaisir gustatif ? 🌲👟\nRejoins-nous pour une rando fun suivie d'une session de grillades entre amis ! 😋🔥Que tu sois un randonneur pro ou débutant, viens découvrir...
URL:https://link.univ-cotedazur.fr/fr/group/uca-mountaineering-club-alpinisme-escalade-ski-de-rando/62/calendar/rando-grillades/2024/09/22/1095
BEGIN:VALARM
TRIGGER:-P0DT1H0M0S
ACTION:DISPLAY
END:VALARM
END:VEVENT
END:VCALENDAR