BEGIN:VCALENDAR
VERSION:2.0
PRODID:-//hacksw/handcal//NONSGML v1.0//EN
BEGIN:VEVENT
DTSTART:20241102T080000
DTEND:20241102T180000
LOCATION:Parking de la Gordolasque
ORGANIZER;CN=SYLVAIN RUBENTHALER - UCA Mountaineering club (Alpinisme / Escalade / Ski de rando):MAILTO:sylvain.rubenthaler@univ-cotedazur.fr
SUMMARY:Bivouac + fondue
DESCRIPTION:Fondue savoyarde au sommet du Clapier le samedi 2 novembre. Au programme :* samedi : voiture Nice-Gordolasque, ascencion du Clapier (3000 le plus méridional des Alpes)* samedi soir : fondue savoyarde ...
URL:https://link.univ-cotedazur.fr/fr/group/uca-mountaineering-club-alpinisme-escalade-ski-de-rando/62/calendar/bivouac-fondue/2024/11/02/1147
BEGIN:VALARM
TRIGGER:-P0DT1H0M0S
ACTION:DISPLAY
END:VALARM
END:VEVENT
END:VCALENDAR