BEGIN:VCALENDAR
VERSION:2.0
PRODID:-//hacksw/handcal//NONSGML v1.0//EN
BEGIN:VEVENT
DTSTART:20250412T140000
DTEND:20250413T170000
LOCATION:Saint-Martin-Vésubie
ORGANIZER;CN=SYLVAIN RUBENTHALER - UCA Mountaineering club (Alpinisme / Escalade / Ski de rando):MAILTO:sylvain.rubenthaler@univ-cotedazur.fr
SUMMARY:Sortie ski-alpinisme
DESCRIPTION:Sortie ski de randonnée + alpinisme avec une nuit au refuge de la Madone de Fenestre. Départ le samedi après-midi. Sommet le dimanche (choix en fonction des participants). Il y aura un petit couloir à...
URL:https://link.univ-cotedazur.fr/fr/group/uca-mountaineering-club-alpinisme-escalade-ski-de-rando/62/calendar/sortie-ski-alpinisme/2025/04/12/1247
BEGIN:VALARM
TRIGGER:-P0DT1H0M0S
ACTION:DISPLAY
END:VALARM
END:VEVENT
END:VCALENDAR