BEGIN:VCALENDAR
VERSION:2.0
PRODID:-//hacksw/handcal//NONSGML v1.0//EN
BEGIN:VEVENT
DTSTART:20250928T140000
DTEND:20250928T150000
LOCATION:Vallée de la Vésubie
ORGANIZER;CN=SYLVAIN RUBENTHALER - UCA Mountaineering club (Alpinisme / Escalade / Ski de rando):MAILTO:sylvain.rubenthaler@univ-cotedazur.fr
SUMMARY:Sortie rando-grillades
DESCRIPTION:Sortie rando-grillade pour marquer la rentrée du club de montagne de l'UCA. Le lien pour rejoindre le groupe Signal autour de cette sortie : Le lien pour remplir le fichier qui servira à organiser le ...
URL:https://link.univ-cotedazur.fr/fr/group/uca-mountaineering-club-alpinisme-escalade-ski-de-rando/62/calendar/sortie-rando-grillades/2025/09/28/1316
BEGIN:VALARM
TRIGGER:-P0DT1H0M0S
ACTION:DISPLAY
END:VALARM
END:VEVENT
END:VCALENDAR