BEGIN:VCALENDAR
VERSION:2.0
PRODID:-//hacksw/handcal//NONSGML v1.0//EN
BEGIN:VEVENT
DTSTART:20260427T130000
DTEND:20260604T160000
LOCATION:Campus Université Côte d'Azur
ORGANIZER;CN=LAURENT GIROUX:MAILTO:laurent.giroux@univ-cotedazur.fr
SUMMARY:Printemps de l'Alternance Université Côte d'Azur
DESCRIPTION:🌸 Le Printemps de l’Alternance débute le 5 mars 2026 à l’UniversitéÀ partir du 5 mars 2026, l’Université lance une nouvelle édition du Printemps de l’Alternance, un temps fort dédié à la rencontre...
URL:https://link.univ-cotedazur.fr/fr/event/printemps-de-l-alternance-universite-cote-d-azur/2026/04/27/1396
BEGIN:VALARM
TRIGGER:-P0DT1H0M0S
ACTION:DISPLAY
END:VALARM
END:VEVENT
END:VCALENDAR