BEGIN:VCALENDAR
VERSION:2.0
PRODID:-//hacksw/handcal//NONSGML v1.0//EN
BEGIN:VEVENT
DTSTART:20260305T133000
DTEND:20260305T170000
LOCATION:Campus Saint Jean d'Angely \n5, Rue du 22ème B.C.A. \n06300 NICE
ORGANIZER;CN=LAURENT GIROUX:MAILTO:laurent.giroux@univ-cotedazur.fr
SUMMARY:Salon de l'Alternance - Osez recruter en apprentissage le 5 mars
DESCRIPTION:Université Côte d'Azur organise le jeudi 5 mars 2026 une journée qui vous permettra de rencontrer nos responsables de formation et les étudiants en recherche d'un terrain d'apprentissage.Nous serions ...
URL:https://link.univ-cotedazur.fr/fr/event/salon-de-l-alternance-osez-recruter-en-apprentissage-le-5-mars/2026/03/05/1408
BEGIN:VALARM
TRIGGER:-P0DT1H0M0S
ACTION:DISPLAY
END:VALARM
END:VEVENT
END:VCALENDAR