BEGIN:VCALENDAR
VERSION:2.0
PRODID:-//hacksw/handcal//NONSGML v1.0//EN
BEGIN:VEVENT
DTSTART:20221130T173000
DTEND:20221130T190000
LOCATION:Campus Valrose et Campus SophiaTech
ORGANIZER;CN=MARION MOUNIER:MAILTO:marion.mounier@univ-cotedazur.fr
SUMMARY:Objectif Master Informatique / Master MIAGE
DESCRIPTION:Chers étudiants, chères étudiantes de L3,\nVous serez bientôt amenés à choisir dans quel master vous poursuivrez vos études.\nEn informatique, plusieurs possibilités vous sont offertes au sein...
URL:https://link.univ-cotedazur.fr/fr/event/objectif-master-informatique-master-miage/2022/11/30/651
BEGIN:VALARM
TRIGGER:-P0DT1H0M0S
ACTION:DISPLAY
END:VALARM
END:VEVENT
END:VCALENDAR