BEGIN:VCALENDAR
VERSION:2.0
PRODID:-//hacksw/handcal//NONSGML v1.0//EN
BEGIN:VEVENT
DTSTART:20280101T000000
DTEND:20291231T100000
LOCATION:
ORGANIZER;CN=THIERRY GIBERT:MAILTO:link@univ-cotedazur.fr
SUMMARY:Diplômés, accédez à un programme de bons plans et tarifs réduits
DESCRIPTION:Un programme dédié avec des avantages, loisirs et bons plans à tarifs réduits En tant qu'Alumni, Université Côte d'Azur vous donne accès à une plateforme  répertoriant plus de 150 000 offres...
URL:https://link.univ-cotedazur.fr/fr/event/diplomes-accedez-a-un-programme-de-bons-plans-et-tarifs-reduits/2028/01/01/817
BEGIN:VALARM
TRIGGER:-P0DT1H0M0S
ACTION:DISPLAY
END:VALARM
END:VEVENT
END:VCALENDAR