BEGIN:VCALENDAR
VERSION:2.0
PRODID:-//hacksw/handcal//NONSGML v1.0//EN
BEGIN:VEVENT
DTSTART:20231109T180000
DTEND:20231109T190000
LOCATION:Siège Social du Crédit Agricole \n111, Avenue Emile Dechame \n06700 SAINT-LAURENT-DU-VAR
ORGANIZER;CN=LUCAS PROTIN:MAILTO:lucas.protin@univ-cotedazur.fr
SUMMARY:Forum des Métiers de la Finance - Crédit Agricole Provence Côte d'Azur
DESCRIPTION:Vous êtes à la recherche de nouveaux challenges professionnels ? Rendez-vous le jeudi 9 novembre, de 18h à 20h pour le forum des métiers de la finance. Présentation des métiers, afterwork et...
URL:https://link.univ-cotedazur.fr/fr/event/forum-des-metiers-de-la-finance-credit-agricole-provence-cote-d-azur/2023/11/09/911
BEGIN:VALARM
TRIGGER:-P0DT1H0M0S
ACTION:DISPLAY
END:VALARM
END:VEVENT
END:VCALENDAR